BEGIN:VCALENDAR
VERSION:2.0
PRODID:-//Law At Work - ECPv6.15.20//NONSGML v1.0//EN
CALSCALE:GREGORIAN
METHOD:PUBLISH
X-WR-CALNAME:Law At Work
X-ORIGINAL-URL:https://lawatworkci.com
X-WR-CALDESC:Events for Law At Work
REFRESH-INTERVAL;VALUE=DURATION:PT1H
X-Robots-Tag:noindex
X-PUBLISHED-TTL:PT1H
BEGIN:VTIMEZONE
TZID:Europe/Jersey
BEGIN:DAYLIGHT
TZOFFSETFROM:+0000
TZOFFSETTO:+0100
TZNAME:BST
DTSTART:20230326T010000
END:DAYLIGHT
BEGIN:STANDARD
TZOFFSETFROM:+0100
TZOFFSETTO:+0000
TZNAME:GMT
DTSTART:20231029T010000
END:STANDARD
BEGIN:DAYLIGHT
TZOFFSETFROM:+0000
TZOFFSETTO:+0100
TZNAME:BST
DTSTART:20240331T010000
END:DAYLIGHT
BEGIN:STANDARD
TZOFFSETFROM:+0100
TZOFFSETTO:+0000
TZNAME:GMT
DTSTART:20241027T010000
END:STANDARD
BEGIN:DAYLIGHT
TZOFFSETFROM:+0000
TZOFFSETTO:+0100
TZNAME:BST
DTSTART:20250330T010000
END:DAYLIGHT
BEGIN:STANDARD
TZOFFSETFROM:+0100
TZOFFSETTO:+0000
TZNAME:GMT
DTSTART:20251026T010000
END:STANDARD
END:VTIMEZONE
BEGIN:VTIMEZONE
TZID:UTC
BEGIN:STANDARD
TZOFFSETFROM:+0000
TZOFFSETTO:+0000
TZNAME:UTC
DTSTART:20230101T000000
END:STANDARD
END:VTIMEZONE
BEGIN:VEVENT
DTSTART;TZID=Europe/Jersey:20240604T090000
DTEND;TZID=Europe/Jersey:20240606T170000
DTSTAMP:20260421T144344
CREATED:20231129T162021Z
LAST-MODIFIED:20231216T101923Z
UID:10000283-1717491600-1717693200@lawatworkci.com
SUMMARY:IOSH Managing Safely Training
DESCRIPTION:Who needs this training?\nManaging Safely is for supervisors\, managers and directors of smaller organisations in any sector\, and any organisation. It is designed to get managers up to speed on the practical actions they need to take to handle health and safety in their teams and provides excellent grounding for further health and safety courses\, such as IOSH Managing Safely® \nWhy is this training required?\nThis course develops supervisors\, managers and director’s ability to understand and meet general legislative requirements to manage health and safety within the workplace. \n  \nLearning Outcomes\n\n\n\nIntroducing Managing Safely.\nAssessing risks.\nControlling risks.\nUnderstanding your responsibilities.\nIdentifying hazards.\nInvestigating accidents and incidents.\nMeasuring safety performance.
URL:https://lawatworkci.com/event/iosh-managing-safely-training-240604/
LOCATION:Law At Work Learning Academy\, 22-24 Seale Street\, St Helier\, Jersey\, JE2 3QG\, United Kingdom
CATEGORIES:All Training,Health & Safety
ATTACH;FMTTYPE=image/jpeg:https://lawatworkci.com/wp-content/uploads/2021/02/pexels-fauxels-3184291-scaled-1.jpg
ORGANIZER;CN="Law At Work":MAILTO:enquiry@lawatworkci.com
END:VEVENT
BEGIN:VEVENT
DTSTART;TZID=UTC:20240612T090000
DTEND;TZID=UTC:20240612T170000
DTSTAMP:20260421T144344
CREATED:20231129T155621Z
LAST-MODIFIED:20231216T101913Z
UID:10000273-1718182800-1718211600@lawatworkci.com
SUMMARY:Display Screen Equipment Assessor
DESCRIPTION:With more and more people working with computers\, either office or home based\, for a greater part of their working lives\, the risks from badly designed workstations or simply sitting badly can have long term health issues and impact on productivity. This training is aimed to help persons given the responsibility of assessing the risks computer users are exposed to and providing sensible advice based on government advice and good practice covering information from the Jersey DSE code of practice and UK regulations. \nWho needs this training? \nAny person given the responsibility of assessing risks users are exposed to at computer workstations.  This training is designed to provide assessors with the knowledge and practical actions they need to take when assessing the risks faced by their colleagues using computers. \nLearning Outcomes \n\nUnderstand the main requirements of relevant legislation as they relate to display screen equipment use.\nDescribe the possible harmful effects to the eyes\, musculoskeletal system\, skin\, nervous system\, and psychological wellbeing of people that may be caused by the use of DSE.\nCarry out risk assessments\, identify techniques for reducing risk and make recommendations for corrective action to minimise harm that may be caused to DSE users and operators.\nAppreciate how DSE assessment is an integral part of overall health and safety management in an organisation.\n\nBenefits of this course \n\nTo meet the requirements of Health and Safety legislation.\nTo protect employees from the ill effects of working at computer workstations.\nProvide a cost-effective method to assess risks using in house trained.
URL:https://lawatworkci.com/event/display-screen-equipment-assessor-240612/
LOCATION:Law At Work Learning Academy\, 22-24 Seale Street\, St Helier\, Jersey\, JE2 3QG\, United Kingdom
CATEGORIES:All Training,Health & Safety
ATTACH;FMTTYPE=image/jpeg:https://lawatworkci.com/wp-content/uploads/2023/01/vc2dd4l57og.jpg
ORGANIZER;CN="Law At Work":MAILTO:enquiry@lawatworkci.com
END:VEVENT
BEGIN:VEVENT
DTSTART;TZID=Europe/Jersey:20240613T093000
DTEND;TZID=Europe/Jersey:20240613T120000
DTSTAMP:20260421T144344
CREATED:20231123T110610Z
LAST-MODIFIED:20231216T101903Z
UID:10000267-1718271000-1718280000@lawatworkci.com
SUMMARY:The Right Advice on... Managing Poor Performance
DESCRIPTION:Who needs this learning?\nThis session is for HR professionals and managers who may have responsibility for managing poor performance. \nWhy is this learning required?\nThe sooner you can deal with poor performers\, the sooner you can prevent any lasting damage to either team performance or your reputation. And if you can help them turn it around and become successful\, then it will actually enhance your reputation. \nLearning Outcomes\n\n\n\nHave an understanding of the legal issues in dealing with capability.\nUnderstand what we mean by capability.\nBe able to identify the causes of performance issues.\nKnow what a capability process should include.\nBe able to make fair decisions on performance.\nUnderstand the process for medical capability.\n\n\n\nFor further details on this learning\, and/or if you would like to enrol yourself or a member of your team on this learning\, please call 887088 or email gemma.renfrey@lawatworkci.com .
URL:https://lawatworkci.com/event/the-right-advice-on-managing-poor-performance-240613/
LOCATION:Law At Work Learning Academy\, 22-24 Seale Street\, St Helier\, Jersey\, JE2 3QG\, United Kingdom
CATEGORIES:All Training,Human Resources
ATTACH;FMTTYPE=image/jpeg:https://lawatworkci.com/wp-content/uploads/2021/07/leon-Oalh2MojUuk-unsplash-scaled-1.jpg
ORGANIZER;CN="Law At Work":MAILTO:enquiry@lawatworkci.com
END:VEVENT
BEGIN:VEVENT
DTSTART;TZID=Europe/Jersey:20240618T090000
DTEND;TZID=Europe/Jersey:20240618T170000
DTSTAMP:20260421T144344
CREATED:20231129T163806Z
LAST-MODIFIED:20231216T101847Z
UID:10000289-1718701200-1718730000@lawatworkci.com
SUMMARY:IOSH Working Safely Training
DESCRIPTION:Who needs this training?\nWorking Safely is ideal for people at any level in any organisation\, in any sector\, needing a foundation in the essentials of health and safety and provides excellent grounding for further health and safety courses\, such as IOSH Managing Safely® \n  \n  \nWhy is this training required?\nWorking Safely is for people at any level\, in any sector\, that require an understanding of the essentials of health and safety. Everyone at work should understand why they must ‘work safely’\, not only for legal reasons but also to reduce risk to the business performance. \n  \nLearning Outcomes\n\n\n\nIntroducing Working Safely.\nDefining hazards and risks.\nIdentifying common hazards.\nImproving safety performance.
URL:https://lawatworkci.com/event/iosh-working-safely-training-240618/
LOCATION:Law At Work Learning Academy\, 22-24 Seale Street\, St Helier\, Jersey\, JE2 3QG\, United Kingdom
CATEGORIES:All Training,Health & Safety
ATTACH;FMTTYPE=image/jpeg:https://lawatworkci.com/wp-content/uploads/2021/02/oliver-hale-oTvU7Zmteic-unsplash-1.jpg
ORGANIZER;CN="Law At Work":MAILTO:enquiry@lawatworkci.com
END:VEVENT
BEGIN:VEVENT
DTSTART;TZID=Europe/Jersey:20240620T093000
DTEND;TZID=Europe/Jersey:20240620T123000
DTSTAMP:20260421T144344
CREATED:20231129T161228Z
LAST-MODIFIED:20231216T101836Z
UID:10000279-1718875800-1718886600@lawatworkci.com
SUMMARY:Fire Marshal Training
DESCRIPTION:Who needs this training?\nAnyone who has a responsibility or duty in an emergency\, either mandatory or voluntary needs this training.   \nWhy is this training required?\nAnyone with responsibility for any action in a fire needs to be trained in what their proper response should be. As with all emergency plans\, they will only be effective if those with actions recognise what those actions are. In any emergency people fall back to their training. If they are not trained\, they become victims because they cannot respond in a positive way.   \nLearning Outcomes\n\n\n\nBe able to identify the role of the fire marshal.\nUnderstand how fire works.\nIdentifying good practice in fire precautions.\nBe able to implement an effective fire evacuation action plan.\nCarry out a simple fire risk assessment.\n\n\n\n\n\n\n\n\n\n\n\n\n\n 
URL:https://lawatworkci.com/event/fire-marshal-training-240620/
LOCATION:Law At Work Learning Academy\, 22-24 Seale Street\, St Helier\, Jersey\, JE2 3QG\, United Kingdom
CATEGORIES:All Training,Health & Safety
ATTACH;FMTTYPE=image/jpeg:https://lawatworkci.com/wp-content/uploads/2021/02/piotr-chrobot-M0WbGFRTXqU-unsplash-1.jpg
ORGANIZER;CN="Law At Work":MAILTO:enquiry@lawatworkci.com
END:VEVENT
END:VCALENDAR