BEGIN:VCALENDAR
VERSION:2.0
PRODID:-//Law At Work - ECPv6.15.20//NONSGML v1.0//EN
CALSCALE:GREGORIAN
METHOD:PUBLISH
X-WR-CALNAME:Law At Work
X-ORIGINAL-URL:https://lawatworkci.com
X-WR-CALDESC:Events for Law At Work
REFRESH-INTERVAL;VALUE=DURATION:PT1H
X-Robots-Tag:noindex
X-PUBLISHED-TTL:PT1H
BEGIN:VTIMEZONE
TZID:Europe/Jersey
BEGIN:DAYLIGHT
TZOFFSETFROM:+0000
TZOFFSETTO:+0100
TZNAME:BST
DTSTART:20240331T010000
END:DAYLIGHT
BEGIN:STANDARD
TZOFFSETFROM:+0100
TZOFFSETTO:+0000
TZNAME:GMT
DTSTART:20241027T010000
END:STANDARD
BEGIN:DAYLIGHT
TZOFFSETFROM:+0000
TZOFFSETTO:+0100
TZNAME:BST
DTSTART:20250330T010000
END:DAYLIGHT
BEGIN:STANDARD
TZOFFSETFROM:+0100
TZOFFSETTO:+0000
TZNAME:GMT
DTSTART:20251026T010000
END:STANDARD
BEGIN:DAYLIGHT
TZOFFSETFROM:+0000
TZOFFSETTO:+0100
TZNAME:BST
DTSTART:20260329T010000
END:DAYLIGHT
BEGIN:STANDARD
TZOFFSETFROM:+0100
TZOFFSETTO:+0000
TZNAME:GMT
DTSTART:20261025T010000
END:STANDARD
END:VTIMEZONE
BEGIN:VEVENT
DTSTART;TZID=Europe/Jersey:20250624T081500
DTEND;TZID=Europe/Jersey:20250624T093000
DTSTAMP:20260421T102217
CREATED:20250520T081808Z
LAST-MODIFIED:20250528T105826Z
UID:10000301-1750752900-1750757400@lawatworkci.com
SUMMARY:The ethics of data: Thinking beyond law
DESCRIPTION:These days\, data is at the heart of everything we do. From AI recruitment tools to third-party tracking\, data-driven decisions can have far-reaching and often unintended consequences. But unintended doesn’t mean unforeseen. \nWe live in a data-driven world where every click\, swipe\, and decision creates value\, but who benefits\, and at what cost? \nIn this thought-provoking session of The Right Advice Breakfast Series\, we’ll explore how data and technology shape our daily lives\, the ethical questions they raise\, and why ‘legal’ doesn’t always mean ‘right’. \nWhat we’ll cover: \n\nHow data impacts your business\, clients\, and community\nThe unintended consequences of new technology\nSimple ethical tests you can apply to guide decision-making\nHow to build trust by going beyond legal compliance\nReal examples of how data misuse has affected businesses and individuals\n\nFrom bias in AI to privacy in practice\, join us for a conversation that’s as relevant to business as it is to everyday life. \nWho’s speaking? \n\nEmma Martins\, Special Advisor – Law At Work (former Data Protection Commissioner – ODPA)\nHeidi Gibaut\, Group Executive Director – Law At Work\n\nNo matter what sector you work in\, this session will leave you better equipped to navigate the digital world with confidence and clarity. Join us on Tuesday\, 24 June 2025\, at 8:15 a.m. at Kingsman Executive Office Suites. See you there! \nClick here to purchase tickets
URL:https://lawatworkci.com/event/the-ethics-of-data-thinking-beyond-law/
LOCATION:Kingsman Executive Office Suites\, De Carteret House\, 7 Castle Street\, St Helier\, Jersey\, JE2 7BT\, United Kingdom
CATEGORIES:Breakfast Briefings
ATTACH;FMTTYPE=image/png:https://lawatworkci.com/wp-content/uploads/2025/05/Data-and-ethics-BB-EB-header.png
ORGANIZER;CN="Law At Work":MAILTO:enquiry@lawatworkci.com
END:VEVENT
END:VCALENDAR