BEGIN:VCALENDAR
VERSION:2.0
PRODID:-//Law At Work - ECPv6.15.20//NONSGML v1.0//EN
CALSCALE:GREGORIAN
METHOD:PUBLISH
X-WR-CALNAME:Law At Work
X-ORIGINAL-URL:https://lawatworkci.com
X-WR-CALDESC:Events for Law At Work
REFRESH-INTERVAL;VALUE=DURATION:PT1H
X-Robots-Tag:noindex
X-PUBLISHED-TTL:PT1H
BEGIN:VTIMEZONE
TZID:Europe/Jersey
BEGIN:DAYLIGHT
TZOFFSETFROM:+0000
TZOFFSETTO:+0100
TZNAME:BST
DTSTART:20240331T010000
END:DAYLIGHT
BEGIN:STANDARD
TZOFFSETFROM:+0100
TZOFFSETTO:+0000
TZNAME:GMT
DTSTART:20241027T010000
END:STANDARD
BEGIN:DAYLIGHT
TZOFFSETFROM:+0000
TZOFFSETTO:+0100
TZNAME:BST
DTSTART:20250330T010000
END:DAYLIGHT
BEGIN:STANDARD
TZOFFSETFROM:+0100
TZOFFSETTO:+0000
TZNAME:GMT
DTSTART:20251026T010000
END:STANDARD
BEGIN:DAYLIGHT
TZOFFSETFROM:+0000
TZOFFSETTO:+0100
TZNAME:BST
DTSTART:20260329T010000
END:DAYLIGHT
BEGIN:STANDARD
TZOFFSETFROM:+0100
TZOFFSETTO:+0000
TZNAME:GMT
DTSTART:20261025T010000
END:STANDARD
END:VTIMEZONE
BEGIN:VEVENT
DTSTART;TZID=Europe/Jersey:20250522T083000
DTEND;TZID=Europe/Jersey:20250522T093000
DTSTAMP:20260421T161922
CREATED:20250414T075517Z
LAST-MODIFIED:20250414T075701Z
UID:10000300-1747902600-1747906200@lawatworkci.com
SUMMARY:Investigating with confidence
DESCRIPTION:Welcome to the next session of The Right Advice Breakfast Series – Investigating with Confidence. \nGetting workplace investigations right is crucial – and getting them wrong can be costly. \nWhether you’re handling a grievance\, disciplinary matter\, or complex employee relations issue\, the ability to investigate professionally and fairly is vital for managers and HR teams. \nWhat we’ll cover: \n\nHow to structure a fair and effective investigation\nSpotting and avoiding cognitive bias\nAsking better questions and listening well\nBest practice note-taking\nNext steps and managing outcomes\n\nInvestigations don’t need to feel daunting. With the right approach\, small changes can make a big difference to the quality and defensibility of your process. \nWho’s speaking? \n\nMichaela Swann\, HR Business Manager – Law At Work\nSimon Nash\, Group Managing Director – Law At Work\n\nWhether you’re new to investigations or want to sharpen your skills\, this session will leave you better equipped to manage disciplinaries\, grievances\, and other ER matters professionally. Join us on Thursday\, 22 May 2025\, at 8:30 a.m. at Kingsman Executive Office Suites. See you there! \nClick here to purchase tickets
URL:https://lawatworkci.com/event/investigating-with-confidence/
LOCATION:Kingsman Executive Office Suites\, De Carteret House\, 7 Castle Street\, St Helier\, Jersey\, JE2 7BT\, United Kingdom
CATEGORIES:Breakfast Briefings
ATTACH;FMTTYPE=image/png:https://lawatworkci.com/wp-content/uploads/2025/04/Investigations-BB-EB-header.png
ORGANIZER;CN="Law At Work":MAILTO:enquiry@lawatworkci.com
END:VEVENT
END:VCALENDAR