BEGIN:VCALENDAR
VERSION:2.0
PRODID:-//Law At Work - ECPv6.15.20//NONSGML v1.0//EN
CALSCALE:GREGORIAN
METHOD:PUBLISH
X-WR-CALNAME:Law At Work
X-ORIGINAL-URL:https://lawatworkci.com
X-WR-CALDESC:Events for Law At Work
REFRESH-INTERVAL;VALUE=DURATION:PT1H
X-Robots-Tag:noindex
X-PUBLISHED-TTL:PT1H
BEGIN:VTIMEZONE
TZID:Europe/Jersey
BEGIN:DAYLIGHT
TZOFFSETFROM:+0000
TZOFFSETTO:+0100
TZNAME:BST
DTSTART:20230326T010000
END:DAYLIGHT
BEGIN:STANDARD
TZOFFSETFROM:+0100
TZOFFSETTO:+0000
TZNAME:GMT
DTSTART:20231029T010000
END:STANDARD
BEGIN:DAYLIGHT
TZOFFSETFROM:+0000
TZOFFSETTO:+0100
TZNAME:BST
DTSTART:20240331T010000
END:DAYLIGHT
BEGIN:STANDARD
TZOFFSETFROM:+0100
TZOFFSETTO:+0000
TZNAME:GMT
DTSTART:20241027T010000
END:STANDARD
BEGIN:DAYLIGHT
TZOFFSETFROM:+0000
TZOFFSETTO:+0100
TZNAME:BST
DTSTART:20250330T010000
END:DAYLIGHT
BEGIN:STANDARD
TZOFFSETFROM:+0100
TZOFFSETTO:+0000
TZNAME:GMT
DTSTART:20251026T010000
END:STANDARD
END:VTIMEZONE
BEGIN:VEVENT
DTSTART;TZID=Europe/Jersey:20240613T093000
DTEND;TZID=Europe/Jersey:20240613T120000
DTSTAMP:20260423T110520
CREATED:20231123T110610Z
LAST-MODIFIED:20231216T101903Z
UID:10000267-1718271000-1718280000@lawatworkci.com
SUMMARY:The Right Advice on... Managing Poor Performance
DESCRIPTION:Who needs this learning?\nThis session is for HR professionals and managers who may have responsibility for managing poor performance. \nWhy is this learning required?\nThe sooner you can deal with poor performers\, the sooner you can prevent any lasting damage to either team performance or your reputation. And if you can help them turn it around and become successful\, then it will actually enhance your reputation. \nLearning Outcomes\n\n\n\nHave an understanding of the legal issues in dealing with capability.\nUnderstand what we mean by capability.\nBe able to identify the causes of performance issues.\nKnow what a capability process should include.\nBe able to make fair decisions on performance.\nUnderstand the process for medical capability.\n\n\n\nFor further details on this learning\, and/or if you would like to enrol yourself or a member of your team on this learning\, please call 887088 or email gemma.renfrey@lawatworkci.com .
URL:https://lawatworkci.com/event/the-right-advice-on-managing-poor-performance-240613/
LOCATION:Law At Work Learning Academy\, 22-24 Seale Street\, St Helier\, Jersey\, JE2 3QG\, United Kingdom
CATEGORIES:All Training,Human Resources
ATTACH;FMTTYPE=image/jpeg:https://lawatworkci.com/wp-content/uploads/2021/07/leon-Oalh2MojUuk-unsplash-scaled-1.jpg
ORGANIZER;CN="Law At Work":MAILTO:enquiry@lawatworkci.com
END:VEVENT
END:VCALENDAR