BEGIN:VCALENDAR
VERSION:2.0
PRODID:-//Law At Work - ECPv6.15.20//NONSGML v1.0//EN
CALSCALE:GREGORIAN
METHOD:PUBLISH
X-WR-CALNAME:Law At Work
X-ORIGINAL-URL:https://lawatworkci.com
X-WR-CALDESC:Events for Law At Work
REFRESH-INTERVAL;VALUE=DURATION:PT1H
X-Robots-Tag:noindex
X-PUBLISHED-TTL:PT1H
BEGIN:VTIMEZONE
TZID:Europe/Jersey
BEGIN:DAYLIGHT
TZOFFSETFROM:+0000
TZOFFSETTO:+0100
TZNAME:BST
DTSTART:20230326T010000
END:DAYLIGHT
BEGIN:STANDARD
TZOFFSETFROM:+0100
TZOFFSETTO:+0000
TZNAME:GMT
DTSTART:20231029T010000
END:STANDARD
BEGIN:DAYLIGHT
TZOFFSETFROM:+0000
TZOFFSETTO:+0100
TZNAME:BST
DTSTART:20240331T010000
END:DAYLIGHT
BEGIN:STANDARD
TZOFFSETFROM:+0100
TZOFFSETTO:+0000
TZNAME:GMT
DTSTART:20241027T010000
END:STANDARD
BEGIN:DAYLIGHT
TZOFFSETFROM:+0000
TZOFFSETTO:+0100
TZNAME:BST
DTSTART:20250330T010000
END:DAYLIGHT
BEGIN:STANDARD
TZOFFSETFROM:+0100
TZOFFSETTO:+0000
TZNAME:GMT
DTSTART:20251026T010000
END:STANDARD
END:VTIMEZONE
BEGIN:VEVENT
DTSTART;TZID=Europe/Jersey:20240523T093000
DTEND;TZID=Europe/Jersey:20240523T120000
DTSTAMP:20260421T174702
CREATED:20231123T110408Z
LAST-MODIFIED:20231216T101936Z
UID:10000266-1716456600-1716465600@lawatworkci.com
SUMMARY:The Right Advice on... Dealing with Bullying and Harassment
DESCRIPTION:Who needs this learning?\nAny person who is responsible for ensuring that their workplace conforms with the requirements of Regulation 4 under the Discrimination (Disability) (Jersey) Regulations 2018. \nWhy is this learning required?\nEvery manager needs to have an understanding of the law and good practice on bullying and harassment\, including harassment as a form of unlawful discrimination and employers’ liability for harassment. \nLearning Outcomes\n\n\n\nWhat is bullying and harassment?\nConstructive and destructive criticism.\nWhat are the legal implications?\nThe notion of creating an offensive environment.\nPreventing bullying and harassment.\nEmployers liability.\nKeeping the workplace free of bullying and harassment.\n\n\n\nFor further details on this learning\, and/or if you would like to enrol yourself or a member of your team on this learning\, please call 887088 or email gemma.renfrey@lawatworkci.com . \n\n 
URL:https://lawatworkci.com/event/the-right-advice-on-dealing-with-bullying-and-harassment-240523/
LOCATION:Law At Work Learning Academy\, 22-24 Seale Street\, St Helier\, Jersey\, JE2 3QG\, United Kingdom
CATEGORIES:All Training,Human Resources
ATTACH;FMTTYPE=image/jpeg:https://lawatworkci.com/wp-content/uploads/2021/04/pexels-yan-krukov-7640731-1-scaled-1.jpg
ORGANIZER;CN="Law At Work":MAILTO:enquiry@lawatworkci.com
END:VEVENT
END:VCALENDAR