BEGIN:VCALENDAR
VERSION:2.0
PRODID:-//Law At Work - ECPv6.15.20//NONSGML v1.0//EN
CALSCALE:GREGORIAN
METHOD:PUBLISH
X-WR-CALNAME:Law At Work
X-ORIGINAL-URL:https://lawatworkci.com
X-WR-CALDESC:Events for Law At Work
REFRESH-INTERVAL;VALUE=DURATION:PT1H
X-Robots-Tag:noindex
X-PUBLISHED-TTL:PT1H
BEGIN:VTIMEZONE
TZID:Europe/Jersey
BEGIN:DAYLIGHT
TZOFFSETFROM:+0000
TZOFFSETTO:+0100
TZNAME:BST
DTSTART:20230326T010000
END:DAYLIGHT
BEGIN:STANDARD
TZOFFSETFROM:+0100
TZOFFSETTO:+0000
TZNAME:GMT
DTSTART:20231029T010000
END:STANDARD
BEGIN:DAYLIGHT
TZOFFSETFROM:+0000
TZOFFSETTO:+0100
TZNAME:BST
DTSTART:20240331T010000
END:DAYLIGHT
BEGIN:STANDARD
TZOFFSETFROM:+0100
TZOFFSETTO:+0000
TZNAME:GMT
DTSTART:20241027T010000
END:STANDARD
BEGIN:DAYLIGHT
TZOFFSETFROM:+0000
TZOFFSETTO:+0100
TZNAME:BST
DTSTART:20250330T010000
END:DAYLIGHT
BEGIN:STANDARD
TZOFFSETFROM:+0100
TZOFFSETTO:+0000
TZNAME:GMT
DTSTART:20251026T010000
END:STANDARD
END:VTIMEZONE
BEGIN:VEVENT
DTSTART;TZID=Europe/Jersey:20240221T090000
DTEND;TZID=Europe/Jersey:20240221T170000
DTSTAMP:20260424T183942
CREATED:20231129T164116Z
LAST-MODIFIED:20231216T102216Z
UID:127185-1708506000-1708534800@lawatworkci.com
SUMMARY:Risk Assessment Training
DESCRIPTION:Who needs this training?\nAnyone who may be responsible for either completing or co-ordinating risk assessment activities with their work teams and\, additionally\, may be required to complete Permits to Work or decide on the training needs of their staff. \n  \nWhy is this training required?\nRisk assessment is a requirement under Jersey health and safety legislation and is a fundamental requirement when designing procedures which are safe and without risk to health. \n  \nLearning Outcomes\n\n\n\nUnderstand the health and safety legal duties.\nUnderstand the difference between hazard and risk.\nKnow how to prepare a risk assessment (site and activity based).\nHave an awareness of the hierarchy of control.\nUnderstand what a Permit to Work is.\nUnderstand how risk assessment links to training needs.
URL:https://lawatworkci.com/event/risk-assessment-training-240221/
LOCATION:Law At Work Learning Academy\, 22-24 Seale Street\, St Helier\, Jersey\, JE2 3QG\, United Kingdom
CATEGORIES:All Training,Health & Safety
ATTACH;FMTTYPE=image/jpeg:https://lawatworkci.com/wp-content/uploads/2021/02/thisisengineering-raeng-uOhBxB23Wao-unsplash-scaled-1.jpg
ORGANIZER;CN="Law At Work":MAILTO:enquiry@lawatworkci.com
END:VEVENT
END:VCALENDAR