BEGIN:VCALENDAR
VERSION:2.0
PRODID:-//Law At Work - ECPv6.15.20//NONSGML v1.0//EN
CALSCALE:GREGORIAN
METHOD:PUBLISH
X-WR-CALNAME:Law At Work
X-ORIGINAL-URL:https://lawatworkci.com
X-WR-CALDESC:Events for Law At Work
REFRESH-INTERVAL;VALUE=DURATION:PT1H
X-Robots-Tag:noindex
X-PUBLISHED-TTL:PT1H
BEGIN:VTIMEZONE
TZID:Europe/Jersey
BEGIN:DAYLIGHT
TZOFFSETFROM:+0000
TZOFFSETTO:+0100
TZNAME:BST
DTSTART:20200329T010000
END:DAYLIGHT
BEGIN:STANDARD
TZOFFSETFROM:+0100
TZOFFSETTO:+0000
TZNAME:GMT
DTSTART:20201025T010000
END:STANDARD
BEGIN:DAYLIGHT
TZOFFSETFROM:+0000
TZOFFSETTO:+0100
TZNAME:BST
DTSTART:20210328T010000
END:DAYLIGHT
BEGIN:STANDARD
TZOFFSETFROM:+0100
TZOFFSETTO:+0000
TZNAME:GMT
DTSTART:20211031T010000
END:STANDARD
BEGIN:DAYLIGHT
TZOFFSETFROM:+0000
TZOFFSETTO:+0100
TZNAME:BST
DTSTART:20220327T010000
END:DAYLIGHT
BEGIN:STANDARD
TZOFFSETFROM:+0100
TZOFFSETTO:+0000
TZNAME:GMT
DTSTART:20221030T010000
END:STANDARD
END:VTIMEZONE
BEGIN:VEVENT
DTSTART;TZID=Europe/Jersey:20210528T090000
DTEND;TZID=Europe/Jersey:20210528T170000
DTSTAMP:20260421T200022
CREATED:20210426T130119Z
LAST-MODIFIED:20231216T094622Z
UID:42185-1622192400-1622221200@lawatworkci.com
SUMMARY:IOSH Working Safely Training
DESCRIPTION:Who needs this training?\nWorking Safely is ideal for people at any level in any organisation\, in any sector\, needing a foundation in the essentials of health and safety and provides excellent grounding for further health and safety courses\, such as IOSH Managing Safely. \n  \nWhy is this training required?\nWorking Safely is for people at any level\, in any sector\, that require an understanding of the essentials of health and safety. Everyone at work should understand why they must ‘work safely’\, not only for legal reasons but also to reduce risk to the business performance. \n  \nLearning Outcomes\n\n\n\nIntroducing Working Safely.\nDefining hazards and risks.\nIdentifying common hazards.\nImproving safety performance.\n\n\n\nPrice is inclusive of GST. \nPlease note there is a £35 administration fee for the book\, exam\, and certificate per delegate.
URL:https://lawatworkci.com/event/280521-iosh-working-safely-training/
CATEGORIES:All Training,Health & Safety
ATTACH;FMTTYPE=image/jpeg:https://lawatworkci.com/wp-content/uploads/2021/02/oliver-hale-oTvU7Zmteic-unsplash-1.jpg
END:VEVENT
END:VCALENDAR