BEGIN:VCALENDAR
VERSION:2.0
PRODID:-//Law At Work - ECPv6.15.20//NONSGML v1.0//EN
CALSCALE:GREGORIAN
METHOD:PUBLISH
X-WR-CALNAME:Law At Work
X-ORIGINAL-URL:https://lawatworkci.com
X-WR-CALDESC:Events for Law At Work
REFRESH-INTERVAL;VALUE=DURATION:PT1H
X-Robots-Tag:noindex
X-PUBLISHED-TTL:PT1H
BEGIN:VTIMEZONE
TZID:Europe/Jersey
BEGIN:DAYLIGHT
TZOFFSETFROM:+0000
TZOFFSETTO:+0100
TZNAME:BST
DTSTART:20200329T010000
END:DAYLIGHT
BEGIN:STANDARD
TZOFFSETFROM:+0100
TZOFFSETTO:+0000
TZNAME:GMT
DTSTART:20201025T010000
END:STANDARD
BEGIN:DAYLIGHT
TZOFFSETFROM:+0000
TZOFFSETTO:+0100
TZNAME:BST
DTSTART:20210328T010000
END:DAYLIGHT
BEGIN:STANDARD
TZOFFSETFROM:+0100
TZOFFSETTO:+0000
TZNAME:GMT
DTSTART:20211031T010000
END:STANDARD
BEGIN:DAYLIGHT
TZOFFSETFROM:+0000
TZOFFSETTO:+0100
TZNAME:BST
DTSTART:20220327T010000
END:DAYLIGHT
BEGIN:STANDARD
TZOFFSETFROM:+0100
TZOFFSETTO:+0000
TZNAME:GMT
DTSTART:20221030T010000
END:STANDARD
END:VTIMEZONE
BEGIN:VEVENT
DTSTART;TZID=Europe/Jersey:20210609T090000
DTEND;TZID=Europe/Jersey:20210609T170000
DTSTAMP:20260420T152716
CREATED:20210414T060032Z
LAST-MODIFIED:20231216T094624Z
UID:41828-1623229200-1623258000@lawatworkci.com
SUMMARY:CIEH Food Hygiene Foundation Training
DESCRIPTION:Who needs this training?\nThis training is essential for anyone working in pubs\, hotels\, restaurants\, supermarkets\, food retail outlets\, hospitals\, care homes and schools who comes into contact and handles food. \n  \nWhy is this training required?\nEveryone who works with food has a special responsibility for safeguarding the health of consumers and ensuring that the food they prepare\, serve\, and/ or sell is perfectly safe to eat. \n  \nLearning Outcomes\n\n\n\nDefine the key terms for food safety.\nState the consequences of poor standards of food safety.\nDescribe the groups of people most at risk from food-borne illness.\nOutline\, in general terms\, the requirements of legislation for food business operators and food handlers.\nOutline the role and powers of enforcement officers and local authorities to control food that is unsafe.\nState the possible consequences of non-compliance with food safety legislation.\nExplain what is meant by due diligence.\nState the importance of food safety training.\n\n\n\n\nPrice is inclusive of GST.
URL:https://lawatworkci.com/event/090621-cieh-food-hygiene-foundation-training/
CATEGORIES:All Training,Health & Safety
ATTACH;FMTTYPE=image/jpeg:https://lawatworkci.com/wp-content/uploads/2021/02/farhad-ibrahimzade-DEovggNHhe0-unsplash-scaled-1.jpg
END:VEVENT
END:VCALENDAR