BEGIN:VCALENDAR
VERSION:2.0
PRODID:-//Law At Work - ECPv6.15.20//NONSGML v1.0//EN
CALSCALE:GREGORIAN
METHOD:PUBLISH
X-WR-CALNAME:Law At Work
X-ORIGINAL-URL:https://lawatworkci.com
X-WR-CALDESC:Events for Law At Work
REFRESH-INTERVAL;VALUE=DURATION:PT1H
X-Robots-Tag:noindex
X-PUBLISHED-TTL:PT1H
BEGIN:VTIMEZONE
TZID:Europe/Jersey
BEGIN:DAYLIGHT
TZOFFSETFROM:+0000
TZOFFSETTO:+0100
TZNAME:BST
DTSTART:20210328T010000
END:DAYLIGHT
BEGIN:STANDARD
TZOFFSETFROM:+0100
TZOFFSETTO:+0000
TZNAME:GMT
DTSTART:20211031T010000
END:STANDARD
BEGIN:DAYLIGHT
TZOFFSETFROM:+0000
TZOFFSETTO:+0100
TZNAME:BST
DTSTART:20220327T010000
END:DAYLIGHT
BEGIN:STANDARD
TZOFFSETFROM:+0100
TZOFFSETTO:+0000
TZNAME:GMT
DTSTART:20221030T010000
END:STANDARD
BEGIN:DAYLIGHT
TZOFFSETFROM:+0000
TZOFFSETTO:+0100
TZNAME:BST
DTSTART:20230326T010000
END:DAYLIGHT
BEGIN:STANDARD
TZOFFSETFROM:+0100
TZOFFSETTO:+0000
TZNAME:GMT
DTSTART:20231029T010000
END:STANDARD
END:VTIMEZONE
BEGIN:VEVENT
DTSTART;TZID=Europe/Jersey:20220908T093000
DTEND;TZID=Europe/Jersey:20220908T120000
DTSTAMP:20260425T122044
CREATED:20220328T122453Z
LAST-MODIFIED:20231216T100219Z
UID:53216-1662629400-1662638400@lawatworkci.com
SUMMARY:The Right Advice on: Managing Absence
DESCRIPTION:Who needs this training?\nThis session is designed for those responsible for HR processes\, including managers\, in their organisation. \n  \nWhy is this training required?\nEvery manager needs to have the tools and knowledge to successfully manage absence to ensure that any process followed meets the requirements of the Employment (Jersey) Law 2003 and does not compromise the rights of the employee. \n  \nLearning Outcomes\n\n\n\nThe different types of absence.\nThe impact of absence on the organisation.\nThe legal pitfalls in dealing with absence.\nMonitoring absence using management tools.\nDealing with absence issues in line with best practice.
URL:https://lawatworkci.com/event/080922-the-right-advice-on-managing-absence/
CATEGORIES:All Training,Human Resources
ATTACH;FMTTYPE=image/jpeg:https://lawatworkci.com/wp-content/uploads/2021/04/pexels-cottonbro-5483059-scaled-1.jpg
END:VEVENT
END:VCALENDAR