BEGIN:VCALENDAR
VERSION:2.0
PRODID:-//Law At Work - ECPv6.15.20//NONSGML v1.0//EN
CALSCALE:GREGORIAN
METHOD:PUBLISH
X-WR-CALNAME:Law At Work
X-ORIGINAL-URL:https://lawatworkci.com
X-WR-CALDESC:Events for Law At Work
REFRESH-INTERVAL;VALUE=DURATION:PT1H
X-Robots-Tag:noindex
X-PUBLISHED-TTL:PT1H
BEGIN:VTIMEZONE
TZID:Europe/Jersey
BEGIN:DAYLIGHT
TZOFFSETFROM:+0000
TZOFFSETTO:+0100
TZNAME:BST
DTSTART:20200329T010000
END:DAYLIGHT
BEGIN:STANDARD
TZOFFSETFROM:+0100
TZOFFSETTO:+0000
TZNAME:GMT
DTSTART:20201025T010000
END:STANDARD
BEGIN:DAYLIGHT
TZOFFSETFROM:+0000
TZOFFSETTO:+0100
TZNAME:BST
DTSTART:20210328T010000
END:DAYLIGHT
BEGIN:STANDARD
TZOFFSETFROM:+0100
TZOFFSETTO:+0000
TZNAME:GMT
DTSTART:20211031T010000
END:STANDARD
BEGIN:DAYLIGHT
TZOFFSETFROM:+0000
TZOFFSETTO:+0100
TZNAME:BST
DTSTART:20220327T010000
END:DAYLIGHT
BEGIN:STANDARD
TZOFFSETFROM:+0100
TZOFFSETTO:+0000
TZNAME:GMT
DTSTART:20221030T010000
END:STANDARD
END:VTIMEZONE
BEGIN:VEVENT
DTSTART;TZID=Europe/Jersey:20211101T090000
DTEND;TZID=Europe/Jersey:20211103T170000
DTSTAMP:20260421T190041
CREATED:20210911T135050Z
LAST-MODIFIED:20231216T095036Z
UID:42490-1635757200-1635958800@lawatworkci.com
SUMMARY:IOSH Managing Safely Training
DESCRIPTION:Who needs this training?\nManaging Safely is for supervisors\, managers and directors of smaller organisations in any sector\, and any organisation. It is designed to get managers up to speed on the practical actions they need to take to handle health and safety in their teams. \n  \nWhy is this training required?\nThis course develops supervisors\, managers and director’s ability to understand and meet general legislative requirements to manage health and safety within the workplace. \n  \nLearning Outcomes\n\n\n\nIntroducing Managing Safely.\nAssessing risks.\nControlling risks.\nUnderstanding your responsibilities.\nIdentifying hazards.\nInvestigating accidents and incidents.\nMeasuring safety performance.\n\n\n\nPrice is inclusive of GST.
URL:https://lawatworkci.com/event/011121-iosh-managing-safely-training/
CATEGORIES:All Training,Health & Safety
ATTACH;FMTTYPE=image/jpeg:https://lawatworkci.com/wp-content/uploads/2021/02/pexels-fauxels-3184291-scaled-1.jpg
END:VEVENT
END:VCALENDAR